BEGIN:VCALENDAR
VERSION:2.0
PRODID:-//Department Of Education//6dc6015d-5ae6-4c12-84ff-3852d5d8efc7
BEGIN:VTIMEZONE
TZID:Australia/Sydney
TZURL:http://tzurl.org/zoneinfo-outlook/Australia/Sydney
X-LIC-LOCATION:Australia/Sydney
BEGIN:STANDARD
TZOFFSETFROM:+1100
TZOFFSETTO:+1000
TZNAME:AEST
DTSTART:19700405T030000
RRULE:FREQ=YEARLY;BYMONTH=4;BYDAY=1SU
END:STANDARD
BEGIN:DAYLIGHT
TZOFFSETFROM:+1000
TZOFFSETTO:+1100
TZNAME:AEDT
DTSTART:19701004T020000
RRULE:FREQ=YEARLY;BYMONTH=10;BYDAY=1SU
END:DAYLIGHT
END:VTIMEZONE
CALSCALE:GREGORIAN
X-WR-TIMEZONE:Australia/Sydney
BEGIN:VEVENT
DTSTART;TZID=Australia/Sydney:20200309T180043
DTEND;TZID=Australia/Sydney:20200309T193056
DTSTAMP:20200309T000000Z
UID:0726f3f2-bf8b-4185-b5c3-bbec69dc6828
LOCATION:School hall
SUMMARY;LANGUAGE=en-us:2020 Open Night
SEQUENCE:0
DESCRIPTION:We warmly invite all prospective parents and students to our Open Night. Join one of the tours of our specialist rooms, learn about our approach to teaching and learning and speak with teachers and students about Rouse Hill High School. Tour 1 leaves at 6.00pm. This will be followed by a presentation in the hall from 6.30 - 7.00pm. Please arrive by 5.50pm to join Tour 1 our otherwise join Tour 2  leaving at 7.00pm following the presentation.
END:VEVENT
TRANSP:TRANSPARENT
END:VCALENDAR
